BEGIN:VCALENDAR
VERSION:2.0
PRODID:-//jEvents 2.0 for Joomla//EN
CALSCALE:GREGORIAN
METHOD:PUBLISH
BEGIN:VTIMEZONE
TZID:Europe/Oslo
END:VTIMEZONE
BEGIN:VEVENT
UID:064d41371b631a7835785f46c775946a
CATEGORIES:Kaffepausen
CREATED:20201012T202949
SUMMARY:Kaffepausen
DESCRIPTION;ENCODING=QUOTED-PRINTABLE:
DTSTAMP:20260421T005005Z
DTSTART;TZID=Europe/Oslo:20210213T120000
DTEND;TZID=Europe/Oslo:20210213T140000
SEQUENCE:0
TRANSP:OPAQUE
END:VEVENT
END:VCALENDAR