BEGIN:VCALENDAR
VERSION:2.0
PRODID:-//jEvents 2.0 for Joomla//EN
CALSCALE:GREGORIAN
METHOD:PUBLISH
BEGIN:VTIMEZONE
TZID:Europe/Oslo
END:VTIMEZONE
BEGIN:VEVENT
UID:5ef6bed43565d3b13906b35d9e861368
CATEGORIES:Normisjon
CREATED:20200821T124827
SUMMARY:Felleskapskveld
DESCRIPTION;ENCODING=QUOTED-PRINTABLE:\n\nKveldsmat kl 19.00\n
CONTACT:Kristian Lande
DTSTAMP:20260423T121335Z
DTSTART;TZID=Europe/Oslo:20201203T190000
SEQUENCE:0
TRANSP:OPAQUE
END:VEVENT
END:VCALENDAR