BEGIN:VCALENDAR
VERSION:2.0
PRODID:-//jEvents 2.0 for Joomla//EN
CALSCALE:GREGORIAN
METHOD:PUBLISH
BEGIN:VTIMEZONE
TZID:Europe/Oslo
END:VTIMEZONE
BEGIN:VEVENT
UID:8fbd1c4da084105d67912e893630a617
CATEGORIES:Annet
CREATED:20211109T074503
SUMMARY:Førjulskveld
DESCRIPTION;ENCODING=QUOTED-PRINTABLE:
DTSTAMP:20260424T064326Z
DTSTART;TZID=Europe/Oslo:20211126T170000
SEQUENCE:0
TRANSP:OPAQUE
END:VEVENT
END:VCALENDAR