BEGIN:VCALENDAR
VERSION:2.0
PRODID:-//jEvents 2.0 for Joomla//EN
CALSCALE:GREGORIAN
METHOD:PUBLISH
BEGIN:VTIMEZONE
TZID:Europe/Oslo
END:VTIMEZONE
BEGIN:VEVENT
UID:61b35839607f21412a3b1cd88a924a1d
CATEGORIES:Utleie
CREATED:20211108T221653
SUMMARY:Utleid
DESCRIPTION;ENCODING=QUOTED-PRINTABLE:
DTSTAMP:20260424T115539Z
DTSTART;TZID=Europe/Oslo;VALUE=DATE:20211217
DTEND;TZID=Europe/Oslo;VALUE=DATE:20211218
SEQUENCE:0
TRANSP:OPAQUE
END:VEVENT
END:VCALENDAR