BEGIN:VCALENDAR
VERSION:2.0
PRODID:-//jEvents 2.0 for Joomla//EN
CALSCALE:GREGORIAN
METHOD:PUBLISH
BEGIN:VTIMEZONE
TZID:Europe/Oslo
END:VTIMEZONE
BEGIN:VEVENT
UID:0222002902e98df99f0ac30315131612
CATEGORIES:Utleie
CREATED:20211024T202028
SUMMARY:Utleid
DESCRIPTION;ENCODING=QUOTED-PRINTABLE:
DTSTAMP:20260424T133349Z
DTSTART;TZID=Europe/Oslo;VALUE=DATE:20211203
DTEND;TZID=Europe/Oslo;VALUE=DATE:20211204
SEQUENCE:0
TRANSP:OPAQUE
END:VEVENT
END:VCALENDAR