BEGIN:VCALENDAR
VERSION:2.0
PRODID:-//jEvents 2.0 for Joomla//EN
CALSCALE:GREGORIAN
METHOD:PUBLISH
BEGIN:VTIMEZONE
TZID:Europe/Oslo
END:VTIMEZONE
BEGIN:VEVENT
UID:72adff717a38855c0063b167dd5a8d5d
CATEGORIES:NLM
CREATED:20210821T101443
SUMMARY:Søndagsmøte - NLM
DESCRIPTION;ENCODING=QUOTED-PRINTABLE:
DTSTAMP:20260424T081841Z
DTSTART;TZID=Europe/Oslo:20211121T110000
SEQUENCE:0
TRANSP:OPAQUE
END:VEVENT
END:VCALENDAR