BEGIN:VCALENDAR
VERSION:2.0
PRODID:-//jEvents 2.0 for Joomla//EN
CALSCALE:GREGORIAN
METHOD:PUBLISH
BEGIN:VTIMEZONE
TZID:Europe/Oslo
END:VTIMEZONE
BEGIN:VEVENT
UID:182e813fd3e3f8b46432fdbe7d8977bb
CATEGORIES:NLM
CREATED:20210821T101419
SUMMARY:Søndagsmøte - NLM
DESCRIPTION;ENCODING=QUOTED-PRINTABLE:
DTSTAMP:20260424T064320Z
DTSTART;TZID=Europe/Oslo:20211107T110000
SEQUENCE:0
TRANSP:OPAQUE
END:VEVENT
END:VCALENDAR