BEGIN:VCALENDAR
VERSION:2.0
PRODID:-//jEvents 2.0 for Joomla//EN
CALSCALE:GREGORIAN
METHOD:PUBLISH
BEGIN:VTIMEZONE
TZID:Europe/Oslo
END:VTIMEZONE
BEGIN:VEVENT
UID:2aee8738307b565c30299c9f5f3f6513
CATEGORIES:NLM
CREATED:20210821T101348
SUMMARY:Søndagsmøte - NLM
DESCRIPTION;ENCODING=QUOTED-PRINTABLE:
DTSTAMP:20260424T011655Z
DTSTART;TZID=Europe/Oslo:20211024T110000
SEQUENCE:0
TRANSP:OPAQUE
END:VEVENT
END:VCALENDAR