BEGIN:VCALENDAR
VERSION:2.0
PRODID:-//jEvents 2.0 for Joomla//EN
CALSCALE:GREGORIAN
METHOD:PUBLISH
BEGIN:VTIMEZONE
TZID:Europe/Oslo
END:VTIMEZONE
BEGIN:VEVENT
UID:600fc01c77bc09c1de5aa4cd3173524c
CATEGORIES:NLM
CREATED:20210821T101257
SUMMARY:Søndagsmøte - NLM
DESCRIPTION;ENCODING=QUOTED-PRINTABLE:
DTSTAMP:20260423T202514Z
DTSTART;TZID=Europe/Oslo:20210926T110000
SEQUENCE:0
TRANSP:OPAQUE
END:VEVENT
END:VCALENDAR