BEGIN:VCALENDAR
VERSION:2.0
PRODID:-//jEvents 2.0 for Joomla//EN
CALSCALE:GREGORIAN
METHOD:PUBLISH
BEGIN:VTIMEZONE
TZID:Europe/Oslo
END:VTIMEZONE
BEGIN:VEVENT
UID:242bc3b5a1da6d9f9f2f5eec77aa8655
CATEGORIES:NLM
CREATED:20210821T101107
SUMMARY:Møte - NLM
DESCRIPTION;ENCODING=QUOTED-PRINTABLE:
DTSTAMP:20260423T202514Z
DTSTART;TZID=Europe/Oslo:20210910T190000
SEQUENCE:0
TRANSP:OPAQUE
END:VEVENT
END:VCALENDAR