BEGIN:VCALENDAR
VERSION:2.0
PRODID:-//jEvents 2.0 for Joomla//EN
CALSCALE:GREGORIAN
METHOD:PUBLISH
BEGIN:VTIMEZONE
TZID:Europe/Oslo
END:VTIMEZONE
BEGIN:VEVENT
UID:5a2b4e8c352ce376d210e65e408e9bd1
CATEGORIES:Annet
CREATED:19700101T010000
SUMMARY:The Chosen
DESCRIPTION;ENCODING=QUOTED-PRINTABLE:
X-EXTRAINFO:Fra 16 år og oppover
DTSTAMP:20260423T235257Z
DTSTART;TZID=Europe/Oslo:20210923T190000
SEQUENCE:0
RRULE:FREQ=WEEKLY;UNTIL=20211029T000000Z;INTERVAL=1;BYDAY=TH
TRANSP:OPAQUE
END:VEVENT
END:VCALENDAR