BEGIN:VCALENDAR
VERSION:2.0
PRODID:-//jEvents 2.0 for Joomla//EN
CALSCALE:GREGORIAN
METHOD:PUBLISH
BEGIN:VTIMEZONE
TZID:Europe/Oslo
END:VTIMEZONE
BEGIN:VEVENT
UID:4680440fac0c5fec582301960a8e8dc2
CATEGORIES:Annet
CREATED:19700101T010000
SUMMARY:The Chosen
DESCRIPTION;ENCODING=QUOTED-PRINTABLE:
X-EXTRAINFO:Fra 16 år og oppover
DTSTAMP:20260423T202515Z
DTSTART;TZID=Europe/Oslo:20210902T190000
SEQUENCE:0
RRULE:FREQ=WEEKLY;UNTIL=20210910T000000Z;INTERVAL=1;BYDAY=TH
TRANSP:OPAQUE
END:VEVENT
END:VCALENDAR