BEGIN:VCALENDAR
VERSION:2.0
PRODID:-//jEvents 2.0 for Joomla//EN
CALSCALE:GREGORIAN
METHOD:PUBLISH
BEGIN:VTIMEZONE
TZID:Europe/Oslo
END:VTIMEZONE
BEGIN:VEVENT
UID:1f0aa093b316ecc4d58972b306404d81
CATEGORIES:Utleie
CREATED:20210813T230925
SUMMARY:Utleid
DESCRIPTION;ENCODING=QUOTED-PRINTABLE:
DTSTAMP:20260423T202513Z
DTSTART;TZID=Europe/Oslo;VALUE=DATE:20210916
DTEND;TZID=Europe/Oslo;VALUE=DATE:20210917
SEQUENCE:0
TRANSP:OPAQUE
END:VEVENT
END:VCALENDAR