BEGIN:VCALENDAR
VERSION:2.0
PRODID:-//jEvents 2.0 for Joomla//EN
CALSCALE:GREGORIAN
METHOD:PUBLISH
BEGIN:VTIMEZONE
TZID:Europe/Oslo
END:VTIMEZONE
BEGIN:VEVENT
UID:807e279659c2b0415a657899737f387d
CATEGORIES:Utleie
CREATED:20210619T201518
SUMMARY:Verdensvid middag
DESCRIPTION;ENCODING=QUOTED-PRINTABLE:
DTSTAMP:20260424T083746Z
DTSTART;TZID=Europe/Oslo:20211105T170000
DTEND;TZID=Europe/Oslo:20211105T200000
SEQUENCE:0
TRANSP:OPAQUE
END:VEVENT
END:VCALENDAR