BEGIN:VCALENDAR
VERSION:2.0
PRODID:-//jEvents 2.0 for Joomla//EN
CALSCALE:GREGORIAN
METHOD:PUBLISH
BEGIN:VTIMEZONE
TZID:Europe/Oslo
END:VTIMEZONE
BEGIN:VEVENT
UID:1891b2055467a6d2243e6f0ebd2b7b60
CATEGORIES:KamSam
CREATED:20210502T121119
SUMMARY:Kam Sam
DESCRIPTION;ENCODING=QUOTED-PRINTABLE:
DTSTAMP:20260424T063419Z
DTSTART;TZID=Europe/Oslo:20211120T200000
SEQUENCE:0
TRANSP:OPAQUE
END:VEVENT
END:VCALENDAR