BEGIN:VCALENDAR
VERSION:2.0
PRODID:-//jEvents 2.0 for Joomla//EN
CALSCALE:GREGORIAN
METHOD:PUBLISH
BEGIN:VTIMEZONE
TZID:Europe/Oslo
END:VTIMEZONE
BEGIN:VEVENT
UID:85c86c5b22ccaa22278eb09040c776c9
CATEGORIES:KamSam
CREATED:20210502T121016
SUMMARY:Kam Sam
DESCRIPTION;ENCODING=QUOTED-PRINTABLE:
DTSTAMP:20260423T202514Z
DTSTART;TZID=Europe/Oslo:20210918T200000
SEQUENCE:0
TRANSP:OPAQUE
END:VEVENT
END:VCALENDAR