BEGIN:VCALENDAR
VERSION:2.0
PRODID:-//jEvents 2.0 for Joomla//EN
CALSCALE:GREGORIAN
METHOD:PUBLISH
BEGIN:VTIMEZONE
TZID:Europe/Oslo
END:VTIMEZONE
BEGIN:VEVENT
UID:19ab5809cead381bd5669712b3b022ea
CATEGORIES:Utleie
CREATED:20210205T202715
SUMMARY:Utleid
DESCRIPTION;ENCODING=QUOTED-PRINTABLE:
DTSTAMP:20260421T023253Z
DTSTART;TZID=Europe/Oslo;VALUE=DATE:20210221
DTEND;TZID=Europe/Oslo;VALUE=DATE:20210222
SEQUENCE:0
TRANSP:OPAQUE
END:VEVENT
END:VCALENDAR