BEGIN:VCALENDAR
VERSION:2.0
PRODID:-//jEvents 2.0 for Joomla//EN
CALSCALE:GREGORIAN
METHOD:PUBLISH
BEGIN:VTIMEZONE
TZID:Europe/Oslo
END:VTIMEZONE
BEGIN:VEVENT
UID:eec71fbe1bb98b5bf43c5cd83e254891
CATEGORIES:NLM
CREATED:20201010T160934
SUMMARY:Søndagsmøte NLM
DESCRIPTION;ENCODING=QUOTED-PRINTABLE:\n\nTaler: Leif Holte\n
DTSTAMP:20260423T185138Z
DTSTART;TZID=Europe/Oslo:20201101T110000
DTEND;TZID=Europe/Oslo:20201101T130000
SEQUENCE:0
TRANSP:OPAQUE
END:VEVENT
END:VCALENDAR