BEGIN:VCALENDAR
VERSION:2.0
PRODID:-//jEvents 2.0 for Joomla//EN
CALSCALE:GREGORIAN
METHOD:PUBLISH
BEGIN:VTIMEZONE
TZID:Europe/Oslo
END:VTIMEZONE
BEGIN:VEVENT
UID:af4e64037ee21d7c502a51f06054df47
CATEGORIES:NLM
CREATED:19700101T010000
SUMMARY:Møtehelg NLM
DESCRIPTION;ENCODING=QUOTED-PRINTABLE:\n\nTaler: Åge Solsvik\n
DTSTAMP:20260423T213546Z
DTSTART;TZID=Europe/Oslo:20201016T190000
SEQUENCE:0
RRULE:FREQ=DAILY;COUNT=2;INTERVAL=1
TRANSP:OPAQUE
END:VEVENT
END:VCALENDAR