BEGIN:VCALENDAR
VERSION:2.0
PRODID:-//jEvents 2.0 for Joomla//EN
CALSCALE:GREGORIAN
METHOD:PUBLISH
BEGIN:VTIMEZONE
TZID:Europe/Oslo
END:VTIMEZONE
BEGIN:VEVENT
UID:d0a8f2510a47c7a3e7d7d7ca28912a86
CATEGORIES:Utleie
CREATED:20200827T233530
SUMMARY:Utleid
DESCRIPTION;ENCODING=QUOTED-PRINTABLE:
DTSTAMP:20260424T021335Z
DTSTART;TZID=Europe/Oslo;VALUE=DATE:20200904
DTEND;TZID=Europe/Oslo;VALUE=DATE:20200905
SEQUENCE:0
TRANSP:OPAQUE
END:VEVENT
END:VCALENDAR