BEGIN:VCALENDAR
VERSION:2.0
PRODID:-//jEvents 2.0 for Joomla//EN
CALSCALE:GREGORIAN
METHOD:PUBLISH
BEGIN:VTIMEZONE
TZID:Europe/Oslo
END:VTIMEZONE
BEGIN:VEVENT
UID:ad1627414f80a079d8e4e707daa83c75
CATEGORIES:KamSam
CREATED:20200813T204257
SUMMARY:Kam Sam
DESCRIPTION;ENCODING=QUOTED-PRINTABLE:
DTSTAMP:20260424T021334Z
DTSTART;TZID=Europe/Oslo:20200919T200000
DTEND;TZID=Europe/Oslo:20200919T000000
SEQUENCE:0
TRANSP:OPAQUE
END:VEVENT
END:VCALENDAR