BEGIN:VCALENDAR
VERSION:2.0
PRODID:-//jEvents 2.0 for Joomla//EN
CALSCALE:GREGORIAN
METHOD:PUBLISH
BEGIN:VTIMEZONE
TZID:Europe/Oslo
END:VTIMEZONE
BEGIN:VEVENT
UID:0e1f4663f3547888608ff0bf5baef9a1
CATEGORIES:Utleie
CREATED:20200813T204047
SUMMARY:Utleid
DESCRIPTION;ENCODING=QUOTED-PRINTABLE:
DTSTAMP:20260424T053212Z
DTSTART;TZID=Europe/Oslo;VALUE=DATE:20200819
DTEND;TZID=Europe/Oslo;VALUE=DATE:20200820
SEQUENCE:0
TRANSP:OPAQUE
END:VEVENT
END:VCALENDAR