BEGIN:VCALENDAR
VERSION:2.0
PRODID:-//jEvents 2.0 for Joomla//EN
CALSCALE:GREGORIAN
METHOD:PUBLISH
BEGIN:VTIMEZONE
TZID:Europe/Oslo
END:VTIMEZONE
BEGIN:VEVENT
UID:5de41322a9cbf6b0628301e6cba3c8f7
CATEGORIES:Utleie
CREATED:20200813T203928
SUMMARY:Utleid
DESCRIPTION;ENCODING=QUOTED-PRINTABLE:
DTSTAMP:20260424T053212Z
DTSTART;TZID=Europe/Oslo;VALUE=DATE:20200829
DTEND;TZID=Europe/Oslo;VALUE=DATE:20200830
SEQUENCE:0
TRANSP:OPAQUE
END:VEVENT
END:VCALENDAR