BEGIN:VCALENDAR
VERSION:2.0
PRODID:-//jEvents 2.0 for Joomla//EN
CALSCALE:GREGORIAN
METHOD:PUBLISH
BEGIN:VTIMEZONE
TZID:Europe/Oslo
END:VTIMEZONE
BEGIN:VEVENT
UID:ff6aa4c5e390ce5f60dbeb0eb44fe9dd
CATEGORIES:Utleie
CREATED:20200612T111747
SUMMARY:Utleid
DESCRIPTION;ENCODING=QUOTED-PRINTABLE:\n\n \n
DTSTAMP:20260423T202514Z
DTSTART;TZID=Europe/Oslo;VALUE=DATE:20210905
DTEND;TZID=Europe/Oslo;VALUE=DATE:20210906
SEQUENCE:0
TRANSP:OPAQUE
END:VEVENT
END:VCALENDAR