BEGIN:VCALENDAR
VERSION:2.0
PRODID:-//jEvents 2.0 for Joomla//EN
CALSCALE:GREGORIAN
METHOD:PUBLISH
BEGIN:VTIMEZONE
TZID:Europe/Oslo
END:VTIMEZONE
BEGIN:VEVENT
UID:d714020ed576353f6bfaffeed45fe217
CATEGORIES:Utleie
CREATED:20200327T225403
SUMMARY:Utleid
DESCRIPTION;ENCODING=QUOTED-PRINTABLE:
DTSTAMP:20260424T021334Z
DTSTART;TZID=Europe/Oslo;VALUE=DATE:20200913
DTEND;TZID=Europe/Oslo;VALUE=DATE:20200914
SEQUENCE:0
TRANSP:OPAQUE
END:VEVENT
END:VCALENDAR