BEGIN:VCALENDAR
VERSION:2.0
PRODID:-//jEvents 2.0 for Joomla//EN
CALSCALE:GREGORIAN
METHOD:PUBLISH
BEGIN:VTIMEZONE
TZID:Europe/Oslo
END:VTIMEZONE
BEGIN:VEVENT
UID:0b448bbe2a470e7ed4c82af5744482b0
CATEGORIES:Utleie
CREATED:20211128T214647
SUMMARY:Utleid
DESCRIPTION;ENCODING=QUOTED-PRINTABLE:
DTSTAMP:20260424T101312Z
DTSTART;TZID=Europe/Oslo;VALUE=DATE:20211225
DTEND;TZID=Europe/Oslo;VALUE=DATE:20211226
SEQUENCE:0
TRANSP:OPAQUE
END:VEVENT
END:VCALENDAR