BEGIN:VCALENDAR
VERSION:2.0
PRODID:-//jEvents 2.0 for Joomla//EN
CALSCALE:GREGORIAN
METHOD:PUBLISH
BEGIN:VTIMEZONE
TZID:Europe/Oslo
END:VTIMEZONE
BEGIN:VEVENT
UID:2483b27302b1c5c631a7375ed6d8c179
CATEGORIES:Utleie
CREATED:20211107T200858
SUMMARY:Utleid
DESCRIPTION;ENCODING=QUOTED-PRINTABLE:
DTSTAMP:20260424T045145Z
DTSTART;TZID=Europe/Oslo;VALUE=DATE:20211112
DTEND;TZID=Europe/Oslo;VALUE=DATE:20211113
SEQUENCE:0
TRANSP:OPAQUE
END:VEVENT
END:VCALENDAR