BEGIN:VCALENDAR
VERSION:2.0
PRODID:-//jEvents 2.0 for Joomla//EN
CALSCALE:GREGORIAN
METHOD:PUBLISH
BEGIN:VTIMEZONE
TZID:Europe/Oslo
END:VTIMEZONE
BEGIN:VEVENT
UID:478bc51cc8c7208446bc6927e94afdf0
CATEGORIES:NLM
CREATED:20210821T101526
SUMMARY:Søndagsmøte - NLM
DESCRIPTION;ENCODING=QUOTED-PRINTABLE:
DTSTAMP:20260424T101312Z
DTSTART;TZID=Europe/Oslo:20211205T110000
DTEND;TZID=Europe/Oslo;VALUE=DATE:20211207
SEQUENCE:0
TRANSP:OPAQUE
END:VEVENT
END:VCALENDAR