BEGIN:VCALENDAR
VERSION:2.0
PRODID:-//jEvents 2.0 for Joomla//EN
CALSCALE:GREGORIAN
METHOD:PUBLISH
BEGIN:VTIMEZONE
TZID:Europe/Oslo
END:VTIMEZONE
BEGIN:VEVENT
UID:6812a8fd104342906f4d570451d6636e
CATEGORIES:NLM
CREATED:20210821T101328
SUMMARY:Søndagsmøte - NLM
DESCRIPTION;ENCODING=QUOTED-PRINTABLE:
DTSTAMP:20260423T234200Z
DTSTART;TZID=Europe/Oslo:20211010T110000
SEQUENCE:0
TRANSP:OPAQUE
END:VEVENT
END:VCALENDAR