BEGIN:VCALENDAR
VERSION:2.0
PRODID:-//jEvents 2.0 for Joomla//EN
CALSCALE:GREGORIAN
METHOD:PUBLISH
BEGIN:VTIMEZONE
TZID:Europe/Oslo
END:VTIMEZONE
BEGIN:VEVENT
UID:177c8e2cafc50508e0260a170170011e
CATEGORIES:NLM
CREATED:20210821T101152
SUMMARY:Møte - NLM
DESCRIPTION;ENCODING=QUOTED-PRINTABLE:
DTSTAMP:20260423T185138Z
DTSTART;TZID=Europe/Oslo:20210911T190000
SEQUENCE:0
TRANSP:OPAQUE
END:VEVENT
END:VCALENDAR