BEGIN:VCALENDAR
VERSION:2.0
PRODID:-//jEvents 2.0 for Joomla//EN
CALSCALE:GREGORIAN
METHOD:PUBLISH
BEGIN:VTIMEZONE
TZID:Europe/Oslo
END:VTIMEZONE
BEGIN:VEVENT
UID:d9c157cea591601b68a395cfe2c61929
CATEGORIES:Utleie
CREATED:20210811T200902
SUMMARY:Utleid
DESCRIPTION;ENCODING=QUOTED-PRINTABLE:
DTSTAMP:20260423T234155Z
DTSTART;TZID=Europe/Oslo;VALUE=DATE:20211009
DTEND;TZID=Europe/Oslo;VALUE=DATE:20211010
SEQUENCE:0
TRANSP:OPAQUE
END:VEVENT
END:VCALENDAR