BEGIN:VCALENDAR
VERSION:2.0
PRODID:-//jEvents 2.0 for Joomla//EN
CALSCALE:GREGORIAN
METHOD:PUBLISH
BEGIN:VTIMEZONE
TZID:Europe/Oslo
END:VTIMEZONE
BEGIN:VEVENT
UID:985454192c8a889f91d6b62aa59f5f3b
CATEGORIES:KamSam
CREATED:20210502T121144
SUMMARY:Kam Sam
DESCRIPTION;ENCODING=QUOTED-PRINTABLE:
DTSTAMP:20260424T103421Z
DTSTART;TZID=Europe/Oslo:20211211T200000
SEQUENCE:0
TRANSP:OPAQUE
END:VEVENT
END:VCALENDAR