BEGIN:VCALENDAR
VERSION:2.0
PRODID:-//jEvents 2.0 for Joomla//EN
CALSCALE:GREGORIAN
METHOD:PUBLISH
BEGIN:VTIMEZONE
TZID:Europe/Oslo
END:VTIMEZONE
BEGIN:VEVENT
UID:2a19127df08ae188a37a997b7aef8653
CATEGORIES:KamSam
CREATED:20210502T121047
SUMMARY:Kam Sam
DESCRIPTION;ENCODING=QUOTED-PRINTABLE:
DTSTAMP:20260423T234323Z
DTSTART;TZID=Europe/Oslo:20211016T200000
SEQUENCE:0
TRANSP:OPAQUE
END:VEVENT
END:VCALENDAR