BEGIN:VCALENDAR
VERSION:2.0
PRODID:-//jEvents 2.0 for Joomla//EN
CALSCALE:GREGORIAN
METHOD:PUBLISH
BEGIN:VTIMEZONE
TZID:Europe/Oslo
END:VTIMEZONE
BEGIN:VEVENT
UID:be41056be348a167ca9975b98f47538a
CATEGORIES:Utleie
CREATED:20210205T203514
SUMMARY:Utleid
DESCRIPTION;ENCODING=QUOTED-PRINTABLE:
DTSTAMP:20260421T021537Z
DTSTART;TZID=Europe/Oslo:20210220T140000
DTEND;TZID=Europe/Oslo:20210220T230000
SEQUENCE:0
TRANSP:OPAQUE
END:VEVENT
END:VCALENDAR