BEGIN:VCALENDAR
VERSION:2.0
PRODID:-//jEvents 2.0 for Joomla//EN
CALSCALE:GREGORIAN
METHOD:PUBLISH
BEGIN:VTIMEZONE
TZID:Europe/Oslo
END:VTIMEZONE
BEGIN:VEVENT
UID:a794ed7432ec7aeff8578975a92f8199
CATEGORIES:Utleie
CREATED:20210205T202901
SUMMARY:Utleid
DESCRIPTION;ENCODING=QUOTED-PRINTABLE:
DTSTAMP:20260421T005119Z
DTSTART;TZID=Europe/Oslo:20210220T070000
DTEND;TZID=Europe/Oslo:20210220T120000
SEQUENCE:0
TRANSP:OPAQUE
END:VEVENT
END:VCALENDAR