BEGIN:VCALENDAR
VERSION:2.0
PRODID:-//jEvents 2.0 for Joomla//EN
CALSCALE:GREGORIAN
METHOD:PUBLISH
BEGIN:VTIMEZONE
TZID:Europe/Oslo
END:VTIMEZONE
BEGIN:VEVENT
UID:f09613a9ec196a5aaede9c5deaac1cfa
CATEGORIES:Utleie
CREATED:20210205T202636
SUMMARY:Utleid
DESCRIPTION;ENCODING=QUOTED-PRINTABLE:
DTSTAMP:20260421T003708Z
DTSTART;TZID=Europe/Oslo;VALUE=DATE:20210219
DTEND;TZID=Europe/Oslo;VALUE=DATE:20210220
SEQUENCE:0
TRANSP:OPAQUE
END:VEVENT
END:VCALENDAR