BEGIN:VCALENDAR
VERSION:2.0
PRODID:-//jEvents 2.0 for Joomla//EN
CALSCALE:GREGORIAN
METHOD:PUBLISH
BEGIN:VTIMEZONE
TZID:Europe/Oslo
END:VTIMEZONE
BEGIN:VEVENT
UID:20de34620c6b09104c49a08725776f77
CATEGORIES:Utleie
CREATED:20201129T213342
SUMMARY:Utleid
DESCRIPTION;ENCODING=QUOTED-PRINTABLE:
DTSTAMP:20260423T134902Z
DTSTART;TZID=Europe/Oslo;VALUE=DATE:20201211
DTEND;TZID=Europe/Oslo;VALUE=DATE:20201212
SEQUENCE:0
TRANSP:OPAQUE
END:VEVENT
END:VCALENDAR