BEGIN:VCALENDAR
VERSION:2.0
PRODID:-//jEvents 2.0 for Joomla//EN
CALSCALE:GREGORIAN
METHOD:PUBLISH
BEGIN:VTIMEZONE
TZID:Europe/Oslo
END:VTIMEZONE
BEGIN:VEVENT
UID:98b264648e9038929b52d8398c885388
CATEGORIES:Annet
CREATED:20201116T211603
SUMMARY:Ekstraordinært årsmøte Byremo Bedehus
DESCRIPTION;ENCODING=QUOTED-PRINTABLE:
DTSTAMP:20260423T170815Z
DTSTART;TZID=Europe/Oslo:20201130T190000
DTEND;TZID=Europe/Oslo:20201130T235900
SEQUENCE:0
TRANSP:OPAQUE
END:VEVENT
END:VCALENDAR