BEGIN:VCALENDAR
VERSION:2.0
PRODID:-//jEvents 2.0 for Joomla//EN
CALSCALE:GREGORIAN
METHOD:PUBLISH
BEGIN:VTIMEZONE
TZID:Europe/Oslo
END:VTIMEZONE
BEGIN:VEVENT
UID:4aa19b30f1b759418bb24fce8aada0c1
CATEGORIES:Utleie
CREATED:20201026T225646
SUMMARY:Utleid
DESCRIPTION;ENCODING=QUOTED-PRINTABLE:
DTSTAMP:20260423T170815Z
DTSTART;TZID=Europe/Oslo:20201101T130000
DTEND;TZID=Europe/Oslo:20201101T230000
SEQUENCE:0
TRANSP:OPAQUE
END:VEVENT
END:VCALENDAR