BEGIN:VCALENDAR
VERSION:2.0
PRODID:-//jEvents 2.0 for Joomla//EN
CALSCALE:GREGORIAN
METHOD:PUBLISH
BEGIN:VTIMEZONE
TZID:Europe/Oslo
END:VTIMEZONE
BEGIN:VEVENT
UID:75ea096980a812a88724faeeea6c00e9
CATEGORIES:Utleie
CREATED:20201012T205724
SUMMARY:Utleid
DESCRIPTION;ENCODING=QUOTED-PRINTABLE:
DTSTAMP:20260423T185138Z
DTSTART;TZID=Europe/Oslo;VALUE=DATE:20201118
DTEND;TZID=Europe/Oslo;VALUE=DATE:20201119
SEQUENCE:0
TRANSP:OPAQUE
END:VEVENT
END:VCALENDAR