BEGIN:VCALENDAR
VERSION:2.0
PRODID:-//jEvents 2.0 for Joomla//EN
CALSCALE:GREGORIAN
METHOD:PUBLISH
BEGIN:VTIMEZONE
TZID:Europe/Oslo
END:VTIMEZONE
BEGIN:VEVENT
UID:064d41371b631a7835785f46c775946a
CATEGORIES:Kaffepausen
CREATED:19700101T010000
SUMMARY:Kaffepausen
DESCRIPTION;ENCODING=QUOTED-PRINTABLE:
DTSTAMP:20260421T023328Z
DTSTART;TZID=Europe/Oslo:20201017T120000
DTEND;TZID=Europe/Oslo:20201017T140000
SEQUENCE:0
RRULE:FREQ=WEEKLY;UNTIL=20210321T000000Z;INTERVAL=1;BYDAY=SA
TRANSP:OPAQUE
END:VEVENT
END:VCALENDAR