BEGIN:VCALENDAR
VERSION:2.0
PRODID:-//jEvents 2.0 for Joomla//EN
CALSCALE:GREGORIAN
METHOD:PUBLISH
BEGIN:VTIMEZONE
TZID:Europe/Oslo
END:VTIMEZONE
BEGIN:VEVENT
UID:1218e3a2324e6145537c2a96ca1a0a0c
CATEGORIES:Normisjon
CREATED:20201010T162527
SUMMARY:Søndagsmøte Normisjon
DESCRIPTION;ENCODING=QUOTED-PRINTABLE:\n\nTaler: Kristian Lande\n
DTSTAMP:20260423T195555Z
DTSTART;TZID=Europe/Oslo:20201025T110000
DTEND;TZID=Europe/Oslo:20201025T120000
SEQUENCE:0
TRANSP:OPAQUE
END:VEVENT
END:VCALENDAR