BEGIN:VCALENDAR
VERSION:2.0
PRODID:-//jEvents 2.0 for Joomla//EN
CALSCALE:GREGORIAN
METHOD:PUBLISH
BEGIN:VTIMEZONE
TZID:Europe/Oslo
END:VTIMEZONE
BEGIN:VEVENT
UID:d88faece260eb5ceaa666b9c2fc62a8c
CATEGORIES:Barnekor og Shine
CREATED:19700101T010000
SUMMARY:Barnekor
DESCRIPTION;ENCODING=QUOTED-PRINTABLE:
DTSTAMP:20260423T135753Z
DTSTART;TZID=Europe/Oslo:20201013T173000
DTEND;TZID=Europe/Oslo:20201013T190000
SEQUENCE:0
RRULE:FREQ=WEEKLY;UNTIL=20201209T000000Z;INTERVAL=2;BYDAY=TU
TRANSP:OPAQUE
END:VEVENT
END:VCALENDAR