BEGIN:VCALENDAR
VERSION:2.0
PRODID:-//jEvents 2.0 for Joomla//EN
CALSCALE:GREGORIAN
METHOD:PUBLISH
BEGIN:VTIMEZONE
TZID:Europe/Oslo
END:VTIMEZONE
BEGIN:VEVENT
UID:2e8a869eba41c07e3783a44c0b1ee37c
CATEGORIES:NLM
CREATED:20201010T161031
SUMMARY:Søndagsmøte NLM
DESCRIPTION;ENCODING=QUOTED-PRINTABLE:
DTSTAMP:20260423T185226Z
DTSTART;TZID=Europe/Oslo:20201129T110000
SEQUENCE:0
TRANSP:OPAQUE
END:VEVENT
END:VCALENDAR