BEGIN:VCALENDAR
VERSION:2.0
PRODID:-//jEvents 2.0 for Joomla//EN
CALSCALE:GREGORIAN
METHOD:PUBLISH
BEGIN:VTIMEZONE
TZID:Europe/Oslo
END:VTIMEZONE
BEGIN:VEVENT
UID:4ce16690f58d04c65e6cf62247bc6931
CATEGORIES:NLM
CREATED:20201010T161008
SUMMARY:Søndagsmøte NLM
DESCRIPTION;ENCODING=QUOTED-PRINTABLE:
DTSTAMP:20260423T185226Z
DTSTART;TZID=Europe/Oslo:20201115T110000
SEQUENCE:0
TRANSP:OPAQUE
END:VEVENT
END:VCALENDAR