BEGIN:VCALENDAR
VERSION:2.0
PRODID:-//jEvents 2.0 for Joomla//EN
CALSCALE:GREGORIAN
METHOD:PUBLISH
BEGIN:VTIMEZONE
TZID:Europe/Oslo
END:VTIMEZONE
BEGIN:VEVENT
UID:c6602fd19867f325873b2e84b6dac7b7
CATEGORIES:NLM
CREATED:20201010T160755
SUMMARY:Møtehelg NLM
DESCRIPTION;ENCODING=QUOTED-PRINTABLE:\n\nTaler: Åge Solsvik\n
DTSTAMP:20260423T200824Z
DTSTART;TZID=Europe/Oslo:20201018T110000
SEQUENCE:0
TRANSP:OPAQUE
END:VEVENT
END:VCALENDAR