BEGIN:VCALENDAR
VERSION:2.0
PRODID:-//jEvents 2.0 for Joomla//EN
CALSCALE:GREGORIAN
METHOD:PUBLISH
BEGIN:VTIMEZONE
TZID:Europe/Oslo
END:VTIMEZONE
BEGIN:VEVENT
UID:6790e6c13d0632ef9f0052fd90902b48
CATEGORIES:KamSam
CREATED:20200909T140514
SUMMARY:Kam Sam
DESCRIPTION;ENCODING=QUOTED-PRINTABLE:
DTSTAMP:20260421T061946Z
DTSTART;TZID=Europe/Oslo:20210116T200000
SEQUENCE:0
TRANSP:OPAQUE
END:VEVENT
END:VCALENDAR