BEGIN:VCALENDAR
VERSION:2.0
PRODID:-//jEvents 2.0 for Joomla//EN
CALSCALE:GREGORIAN
METHOD:PUBLISH
BEGIN:VTIMEZONE
TZID:Europe/Oslo
END:VTIMEZONE
BEGIN:VEVENT
UID:5ef6bed43565d3b13906b35d9e861368
CATEGORIES:Normisjon
CREATED:19700101T010000
SUMMARY:Felleskapskveld
DESCRIPTION;ENCODING=QUOTED-PRINTABLE:\n\nKveldsmat kl 19.00\n
CONTACT:Kristian Lande
DTSTAMP:20260423T121335Z
DTSTART;TZID=Europe/Oslo:20200827T190000
SEQUENCE:0
RRULE:FREQ=WEEKLY;UNTIL=20201204T000000Z;INTERVAL=2;BYDAY=TH
TRANSP:OPAQUE
END:VEVENT
END:VCALENDAR