BEGIN:VCALENDAR
VERSION:2.0
PRODID:-//jEvents 2.0 for Joomla//EN
CALSCALE:GREGORIAN
METHOD:PUBLISH
BEGIN:VTIMEZONE
TZID:Europe/Oslo
END:VTIMEZONE
BEGIN:VEVENT
UID:eed8f4cce4b8e7ba291f0d64deb88d9e
CATEGORIES:KamSam
CREATED:20200820T093641
SUMMARY:Kam Sam
DESCRIPTION;ENCODING=QUOTED-PRINTABLE:\n\nTur til Evje for å kjøre go-cart\n
DTSTAMP:20260424T035239Z
DTSTART;TZID=Europe/Oslo:20200828T180000
DTEND;TZID=Europe/Oslo:20200828T230000
SEQUENCE:0
TRANSP:OPAQUE
END:VEVENT
END:VCALENDAR