BEGIN:VCALENDAR
VERSION:2.0
PRODID:-//jEvents 2.0 for Joomla//EN
CALSCALE:GREGORIAN
METHOD:PUBLISH
BEGIN:VTIMEZONE
TZID:Europe/Oslo
END:VTIMEZONE
BEGIN:VEVENT
UID:c4bca9375879e72f0f8ae0cd665e1b91
CATEGORIES:KamSam
CREATED:20200813T204425
SUMMARY:Kam Sam
DESCRIPTION;ENCODING=QUOTED-PRINTABLE:\n\nJuleavslutning\n
DTSTAMP:20260423T134902Z
DTSTART;TZID=Europe/Oslo:20201205T200000
SEQUENCE:0
TRANSP:OPAQUE
END:VEVENT
END:VCALENDAR